BEGIN:VCALENDAR
VERSION:2.0
PRODID:-//AudioTheme 3.0.1
BEGIN:VEVENT
UID:urn:uuid:4d442d89-1c03-446b-86bf-5944ded4c835
URL:https://erinross.ca/shows/blues-n-brews-8/
DTSTART;TZID=GMT:20230831T180000
SUMMARY:Blues 'n' Brews
DESCRIPTION:your monthly dose of Blues 'n' Brews in the lunch hour!
LOCATION:Two House Brewing\, 1901 10 Ave SW\, Calgary\, AB\, Canada
END:VEVENT
END:VCALENDAR
